BEGIN:VCALENDAR
VERSION:2.0
PRODID:icalendar-ruby
CALSCALE:GREGORIAN
BEGIN:VEVENT
DTSTAMP:20260422T155740Z
UID:46f10bed-786b-4768-9aad-c75cb68fddc7
DTSTART:20260421T090000Z
DTEND:20260506T170000Z
DESCRIPTION:**April 21–23** and **May 5-6\, 2026**.\n\nThe NSLS-II and C
 FN Users’ Meeting offers researchers\, engineers\, and early-career scie
 ntists\, including students and postdocs\, from across the STEM community 
 an opportunity to share their work and insights. The meeting covers a broa
 d range of topics\, such as synchrotron science\, nanoscale science\, imag
 ing and tomography\, materials science\, chemical sciences\, energy scienc
 e\, nanotechnology\, advanced manufacturing\, and biological sciences. The
  Users’ Meeting will include keynote lectures\, poster session\, lab tou
 rs\, a banquet dinner and ample opportunities to meet colleagues and plan 
 the next experiments at NSLS-II and CFN.
LOCATION:Brookhaven National Laboratory (Upton\, Suffolk County\, New York\
 , United States) and Online (limited events) April 21–23 and May 5-6\, 2
 026
SUMMARY:National Synchrotron Light Source II (NSLS-ll) and Center for Funct
 ional Nanomaterials (CFN) Users’ Meeting
URL;VALUE=URI:https://www.bnl.gov/usersmeeting/
END:VEVENT
END:VCALENDAR
